BEGIN:VCALENDAR
VERSION:2.0
PRODID:-//Village of Pecatonica - ECPv6.15.20//NONSGML v1.0//EN
CALSCALE:GREGORIAN
METHOD:PUBLISH
X-ORIGINAL-URL:https://www.villageofpecatonica.com
X-WR-CALDESC:Events for Village of Pecatonica
REFRESH-INTERVAL;VALUE=DURATION:PT1H
X-Robots-Tag:noindex
X-PUBLISHED-TTL:PT1H
BEGIN:VTIMEZONE
TZID:America/Chicago
BEGIN:DAYLIGHT
TZOFFSETFROM:-0600
TZOFFSETTO:-0500
TZNAME:CDT
DTSTART:20260308T080000
END:DAYLIGHT
BEGIN:STANDARD
TZOFFSETFROM:-0500
TZOFFSETTO:-0600
TZNAME:CST
DTSTART:20261101T070000
END:STANDARD
BEGIN:DAYLIGHT
TZOFFSETFROM:-0600
TZOFFSETTO:-0500
TZNAME:CDT
DTSTART:20270314T080000
END:DAYLIGHT
BEGIN:STANDARD
TZOFFSETFROM:-0500
TZOFFSETTO:-0600
TZNAME:CST
DTSTART:20271107T070000
END:STANDARD
BEGIN:DAYLIGHT
TZOFFSETFROM:-0600
TZOFFSETTO:-0500
TZNAME:CDT
DTSTART:20280312T080000
END:DAYLIGHT
BEGIN:STANDARD
TZOFFSETFROM:-0500
TZOFFSETTO:-0600
TZNAME:CST
DTSTART:20281105T070000
END:STANDARD
END:VTIMEZONE
BEGIN:VEVENT
DTSTART;TZID=America/Chicago:20270622T180000
DTEND;TZID=America/Chicago:20270622T190000
DTSTAMP:20260421T183023
CREATED:20241210T165506Z
LAST-MODIFIED:20241210T165506Z
UID:10000450-1813687200-1813690800@www.villageofpecatonica.com
SUMMARY:Planning and Zoning Meeting
DESCRIPTION:
URL:https://www.villageofpecatonica.com/event/planning-and-zoning-meeting/2027-06-22/
LOCATION:Village Hall\, 405 Main St\, Pecatonica\, IL\, 61063\, United States
END:VEVENT
BEGIN:VEVENT
DTSTART;TZID=America/Chicago:20270706T180000
DTEND;TZID=America/Chicago:20270706T183000
DTSTAMP:20260421T183023
CREATED:20250521T180648Z
LAST-MODIFIED:20250521T180648Z
UID:10000800-1814896800-1814898600@www.villageofpecatonica.com
SUMMARY:Committee of the Whole
DESCRIPTION:
URL:https://www.villageofpecatonica.com/event/committee-of-the-whole/2027-07-06/
LOCATION:IL
END:VEVENT
BEGIN:VEVENT
DTSTART;TZID=America/Chicago:20270706T183000
DTEND;TZID=America/Chicago:20270706T193000
DTSTAMP:20260421T183023
CREATED:20250521T185051Z
LAST-MODIFIED:20250521T185051Z
UID:10001484-1814898600-1814902200@www.villageofpecatonica.com
SUMMARY:Regular Board
DESCRIPTION:
URL:https://www.villageofpecatonica.com/event/regular-board/2027-07-06/
LOCATION:Village Hall\, 405 Main St\, Pecatonica\, IL\, 61063\, United States
END:VEVENT
BEGIN:VEVENT
DTSTART;TZID=America/Chicago:20270712T180000
DTEND;TZID=America/Chicago:20270712T190000
DTSTAMP:20260421T183023
CREATED:20241210T165253Z
LAST-MODIFIED:20241210T165253Z
UID:10000391-1815415200-1815418800@www.villageofpecatonica.com
SUMMARY:Economic Development Meeting
DESCRIPTION:
URL:https://www.villageofpecatonica.com/event/economic-development-meeting/2027-07-12/
LOCATION:Village Hall\, 405 Main St\, Pecatonica\, IL\, 61063\, United States
END:VEVENT
BEGIN:VEVENT
DTSTART;TZID=America/Chicago:20270720T180000
DTEND;TZID=America/Chicago:20270720T190000
DTSTAMP:20260421T183023
CREATED:20250521T185155Z
LAST-MODIFIED:20250521T185155Z
UID:10001544-1816106400-1816110000@www.villageofpecatonica.com
SUMMARY:Regular Board Meeting
DESCRIPTION:
URL:https://www.villageofpecatonica.com/event/regular-board-meeting/2027-07-20/
LOCATION:Village Hall\, 405 Main St\, Pecatonica\, IL\, 61063\, United States
END:VEVENT
BEGIN:VEVENT
DTSTART;TZID=America/Chicago:20270727T180000
DTEND;TZID=America/Chicago:20270727T190000
DTSTAMP:20260421T183023
CREATED:20241210T165506Z
LAST-MODIFIED:20241210T165506Z
UID:10000451-1816711200-1816714800@www.villageofpecatonica.com
SUMMARY:Planning and Zoning Meeting
DESCRIPTION:
URL:https://www.villageofpecatonica.com/event/planning-and-zoning-meeting/2027-07-27/
LOCATION:Village Hall\, 405 Main St\, Pecatonica\, IL\, 61063\, United States
END:VEVENT
BEGIN:VEVENT
DTSTART;TZID=America/Chicago:20270803T180000
DTEND;TZID=America/Chicago:20270803T183000
DTSTAMP:20260421T183023
CREATED:20250521T180648Z
LAST-MODIFIED:20250521T180648Z
UID:10000801-1817316000-1817317800@www.villageofpecatonica.com
SUMMARY:Committee of the Whole
DESCRIPTION:
URL:https://www.villageofpecatonica.com/event/committee-of-the-whole/2027-08-03/
LOCATION:IL
END:VEVENT
BEGIN:VEVENT
DTSTART;TZID=America/Chicago:20270803T183000
DTEND;TZID=America/Chicago:20270803T193000
DTSTAMP:20260421T183023
CREATED:20250521T185051Z
LAST-MODIFIED:20250521T185051Z
UID:10001485-1817317800-1817321400@www.villageofpecatonica.com
SUMMARY:Regular Board
DESCRIPTION:
URL:https://www.villageofpecatonica.com/event/regular-board/2027-08-03/
LOCATION:Village Hall\, 405 Main St\, Pecatonica\, IL\, 61063\, United States
END:VEVENT
BEGIN:VEVENT
DTSTART;TZID=America/Chicago:20270809T180000
DTEND;TZID=America/Chicago:20270809T190000
DTSTAMP:20260421T183023
CREATED:20241210T165253Z
LAST-MODIFIED:20241210T165253Z
UID:10000392-1817834400-1817838000@www.villageofpecatonica.com
SUMMARY:Economic Development Meeting
DESCRIPTION:
URL:https://www.villageofpecatonica.com/event/economic-development-meeting/2027-08-09/
LOCATION:Village Hall\, 405 Main St\, Pecatonica\, IL\, 61063\, United States
END:VEVENT
BEGIN:VEVENT
DTSTART;TZID=America/Chicago:20270817T180000
DTEND;TZID=America/Chicago:20270817T190000
DTSTAMP:20260421T183023
CREATED:20250521T185155Z
LAST-MODIFIED:20250521T185155Z
UID:10001545-1818525600-1818529200@www.villageofpecatonica.com
SUMMARY:Regular Board Meeting
DESCRIPTION:
URL:https://www.villageofpecatonica.com/event/regular-board-meeting/2027-08-17/
LOCATION:Village Hall\, 405 Main St\, Pecatonica\, IL\, 61063\, United States
END:VEVENT
BEGIN:VEVENT
DTSTART;TZID=America/Chicago:20270824T180000
DTEND;TZID=America/Chicago:20270824T190000
DTSTAMP:20260421T183023
CREATED:20241210T165506Z
LAST-MODIFIED:20241210T165506Z
UID:10000452-1819130400-1819134000@www.villageofpecatonica.com
SUMMARY:Planning and Zoning Meeting
DESCRIPTION:
URL:https://www.villageofpecatonica.com/event/planning-and-zoning-meeting/2027-08-24/
LOCATION:Village Hall\, 405 Main St\, Pecatonica\, IL\, 61063\, United States
END:VEVENT
BEGIN:VEVENT
DTSTART;TZID=America/Chicago:20270907T180000
DTEND;TZID=America/Chicago:20270907T183000
DTSTAMP:20260421T183023
CREATED:20250521T180648Z
LAST-MODIFIED:20250521T180648Z
UID:10000802-1820340000-1820341800@www.villageofpecatonica.com
SUMMARY:Committee of the Whole
DESCRIPTION:
URL:https://www.villageofpecatonica.com/event/committee-of-the-whole/2027-09-07/
LOCATION:IL
END:VEVENT
BEGIN:VEVENT
DTSTART;TZID=America/Chicago:20270907T183000
DTEND;TZID=America/Chicago:20270907T193000
DTSTAMP:20260421T183023
CREATED:20250521T185051Z
LAST-MODIFIED:20250521T185051Z
UID:10001486-1820341800-1820345400@www.villageofpecatonica.com
SUMMARY:Regular Board
DESCRIPTION:
URL:https://www.villageofpecatonica.com/event/regular-board/2027-09-07/
LOCATION:Village Hall\, 405 Main St\, Pecatonica\, IL\, 61063\, United States
END:VEVENT
BEGIN:VEVENT
DTSTART;TZID=America/Chicago:20270913T180000
DTEND;TZID=America/Chicago:20270913T190000
DTSTAMP:20260421T183023
CREATED:20241210T165253Z
LAST-MODIFIED:20241210T165253Z
UID:10000393-1820858400-1820862000@www.villageofpecatonica.com
SUMMARY:Economic Development Meeting
DESCRIPTION:
URL:https://www.villageofpecatonica.com/event/economic-development-meeting/2027-09-13/
LOCATION:Village Hall\, 405 Main St\, Pecatonica\, IL\, 61063\, United States
END:VEVENT
BEGIN:VEVENT
DTSTART;TZID=America/Chicago:20270921T180000
DTEND;TZID=America/Chicago:20270921T190000
DTSTAMP:20260421T183023
CREATED:20250521T185155Z
LAST-MODIFIED:20250521T185155Z
UID:10001546-1821549600-1821553200@www.villageofpecatonica.com
SUMMARY:Regular Board Meeting
DESCRIPTION:
URL:https://www.villageofpecatonica.com/event/regular-board-meeting/2027-09-21/
LOCATION:Village Hall\, 405 Main St\, Pecatonica\, IL\, 61063\, United States
END:VEVENT
BEGIN:VEVENT
DTSTART;TZID=America/Chicago:20270928T180000
DTEND;TZID=America/Chicago:20270928T190000
DTSTAMP:20260421T183023
CREATED:20241210T165506Z
LAST-MODIFIED:20241210T165506Z
UID:10000453-1822154400-1822158000@www.villageofpecatonica.com
SUMMARY:Planning and Zoning Meeting
DESCRIPTION:
URL:https://www.villageofpecatonica.com/event/planning-and-zoning-meeting/2027-09-28/
LOCATION:Village Hall\, 405 Main St\, Pecatonica\, IL\, 61063\, United States
END:VEVENT
BEGIN:VEVENT
DTSTART;TZID=America/Chicago:20271005T180000
DTEND;TZID=America/Chicago:20271005T183000
DTSTAMP:20260421T183023
CREATED:20250521T180648Z
LAST-MODIFIED:20250521T180648Z
UID:10000803-1822759200-1822761000@www.villageofpecatonica.com
SUMMARY:Committee of the Whole
DESCRIPTION:
URL:https://www.villageofpecatonica.com/event/committee-of-the-whole/2027-10-05/
LOCATION:IL
END:VEVENT
BEGIN:VEVENT
DTSTART;TZID=America/Chicago:20271005T183000
DTEND;TZID=America/Chicago:20271005T193000
DTSTAMP:20260421T183023
CREATED:20250521T185051Z
LAST-MODIFIED:20250521T185051Z
UID:10001487-1822761000-1822764600@www.villageofpecatonica.com
SUMMARY:Regular Board
DESCRIPTION:
URL:https://www.villageofpecatonica.com/event/regular-board/2027-10-05/
LOCATION:Village Hall\, 405 Main St\, Pecatonica\, IL\, 61063\, United States
END:VEVENT
BEGIN:VEVENT
DTSTART;TZID=America/Chicago:20271011T180000
DTEND;TZID=America/Chicago:20271011T190000
DTSTAMP:20260421T183023
CREATED:20241210T165253Z
LAST-MODIFIED:20241210T165253Z
UID:10000394-1823277600-1823281200@www.villageofpecatonica.com
SUMMARY:Economic Development Meeting
DESCRIPTION:
URL:https://www.villageofpecatonica.com/event/economic-development-meeting/2027-10-11/
LOCATION:Village Hall\, 405 Main St\, Pecatonica\, IL\, 61063\, United States
END:VEVENT
BEGIN:VEVENT
DTSTART;TZID=America/Chicago:20271019T180000
DTEND;TZID=America/Chicago:20271019T190000
DTSTAMP:20260421T183023
CREATED:20250521T185155Z
LAST-MODIFIED:20250521T185155Z
UID:10001547-1823968800-1823972400@www.villageofpecatonica.com
SUMMARY:Regular Board Meeting
DESCRIPTION:
URL:https://www.villageofpecatonica.com/event/regular-board-meeting/2027-10-19/
LOCATION:Village Hall\, 405 Main St\, Pecatonica\, IL\, 61063\, United States
END:VEVENT
BEGIN:VEVENT
DTSTART;TZID=America/Chicago:20271026T180000
DTEND;TZID=America/Chicago:20271026T190000
DTSTAMP:20260421T183023
CREATED:20241210T165506Z
LAST-MODIFIED:20241210T165506Z
UID:10000454-1824573600-1824577200@www.villageofpecatonica.com
SUMMARY:Planning and Zoning Meeting
DESCRIPTION:
URL:https://www.villageofpecatonica.com/event/planning-and-zoning-meeting/2027-10-26/
LOCATION:Village Hall\, 405 Main St\, Pecatonica\, IL\, 61063\, United States
END:VEVENT
BEGIN:VEVENT
DTSTART;TZID=America/Chicago:20271102T180000
DTEND;TZID=America/Chicago:20271102T183000
DTSTAMP:20260421T183023
CREATED:20250521T180648Z
LAST-MODIFIED:20250521T180648Z
UID:10000804-1825178400-1825180200@www.villageofpecatonica.com
SUMMARY:Committee of the Whole
DESCRIPTION:
URL:https://www.villageofpecatonica.com/event/committee-of-the-whole/2027-11-02/
LOCATION:IL
END:VEVENT
BEGIN:VEVENT
DTSTART;TZID=America/Chicago:20271102T183000
DTEND;TZID=America/Chicago:20271102T193000
DTSTAMP:20260421T183023
CREATED:20250521T185051Z
LAST-MODIFIED:20250521T185051Z
UID:10001488-1825180200-1825183800@www.villageofpecatonica.com
SUMMARY:Regular Board
DESCRIPTION:
URL:https://www.villageofpecatonica.com/event/regular-board/2027-11-02/
LOCATION:Village Hall\, 405 Main St\, Pecatonica\, IL\, 61063\, United States
END:VEVENT
BEGIN:VEVENT
DTSTART;TZID=America/Chicago:20271108T180000
DTEND;TZID=America/Chicago:20271108T190000
DTSTAMP:20260421T183023
CREATED:20241210T165253Z
LAST-MODIFIED:20241210T165253Z
UID:10000395-1825696800-1825700400@www.villageofpecatonica.com
SUMMARY:Economic Development Meeting
DESCRIPTION:
URL:https://www.villageofpecatonica.com/event/economic-development-meeting/2027-11-08/
LOCATION:Village Hall\, 405 Main St\, Pecatonica\, IL\, 61063\, United States
END:VEVENT
BEGIN:VEVENT
DTSTART;TZID=America/Chicago:20271116T180000
DTEND;TZID=America/Chicago:20271116T190000
DTSTAMP:20260421T183023
CREATED:20250521T185155Z
LAST-MODIFIED:20250521T185155Z
UID:10001548-1826388000-1826391600@www.villageofpecatonica.com
SUMMARY:Regular Board Meeting
DESCRIPTION:
URL:https://www.villageofpecatonica.com/event/regular-board-meeting/2027-11-16/
LOCATION:Village Hall\, 405 Main St\, Pecatonica\, IL\, 61063\, United States
END:VEVENT
BEGIN:VEVENT
DTSTART;TZID=America/Chicago:20271123T180000
DTEND;TZID=America/Chicago:20271123T190000
DTSTAMP:20260421T183023
CREATED:20241210T165506Z
LAST-MODIFIED:20241210T165506Z
UID:10000455-1826992800-1826996400@www.villageofpecatonica.com
SUMMARY:Planning and Zoning Meeting
DESCRIPTION:
URL:https://www.villageofpecatonica.com/event/planning-and-zoning-meeting/2027-11-23/
LOCATION:Village Hall\, 405 Main St\, Pecatonica\, IL\, 61063\, United States
END:VEVENT
BEGIN:VEVENT
DTSTART;TZID=America/Chicago:20271207T180000
DTEND;TZID=America/Chicago:20271207T183000
DTSTAMP:20260421T183023
CREATED:20250521T180648Z
LAST-MODIFIED:20250521T180648Z
UID:10000805-1828202400-1828204200@www.villageofpecatonica.com
SUMMARY:Committee of the Whole
DESCRIPTION:
URL:https://www.villageofpecatonica.com/event/committee-of-the-whole/2027-12-07/
LOCATION:IL
END:VEVENT
BEGIN:VEVENT
DTSTART;TZID=America/Chicago:20271207T183000
DTEND;TZID=America/Chicago:20271207T193000
DTSTAMP:20260421T183023
CREATED:20250521T185051Z
LAST-MODIFIED:20250521T185051Z
UID:10001489-1828204200-1828207800@www.villageofpecatonica.com
SUMMARY:Regular Board
DESCRIPTION:
URL:https://www.villageofpecatonica.com/event/regular-board/2027-12-07/
LOCATION:Village Hall\, 405 Main St\, Pecatonica\, IL\, 61063\, United States
END:VEVENT
BEGIN:VEVENT
DTSTART;TZID=America/Chicago:20271213T180000
DTEND;TZID=America/Chicago:20271213T190000
DTSTAMP:20260421T183023
CREATED:20241210T165253Z
LAST-MODIFIED:20241210T165253Z
UID:10000396-1828720800-1828724400@www.villageofpecatonica.com
SUMMARY:Economic Development Meeting
DESCRIPTION:
URL:https://www.villageofpecatonica.com/event/economic-development-meeting/2027-12-13/
LOCATION:Village Hall\, 405 Main St\, Pecatonica\, IL\, 61063\, United States
END:VEVENT
BEGIN:VEVENT
DTSTART;TZID=America/Chicago:20271221T180000
DTEND;TZID=America/Chicago:20271221T190000
DTSTAMP:20260421T183023
CREATED:20250521T185155Z
LAST-MODIFIED:20250521T185155Z
UID:10001549-1829412000-1829415600@www.villageofpecatonica.com
SUMMARY:Regular Board Meeting
DESCRIPTION:
URL:https://www.villageofpecatonica.com/event/regular-board-meeting/2027-12-21/
LOCATION:Village Hall\, 405 Main St\, Pecatonica\, IL\, 61063\, United States
END:VEVENT
END:VCALENDAR